BEGIN:VCALENDAR
VERSION:2.0
PRODID:-//Mesa de bar - ECPv6.15.19//NONSGML v1.0//EN
CALSCALE:GREGORIAN
METHOD:PUBLISH
X-WR-CALNAME:Mesa de bar
X-ORIGINAL-URL:https://portalmesadebar.com.br
X-WR-CALDESC:Eventos para Mesa de bar
REFRESH-INTERVAL;VALUE=DURATION:PT1H
X-Robots-Tag:noindex
X-PUBLISHED-TTL:PT1H
BEGIN:VTIMEZONE
TZID:America/Sao_Paulo
BEGIN:STANDARD
TZOFFSETFROM:-0300
TZOFFSETTO:-0300
TZNAME:-03
DTSTART:20250101T000000
END:STANDARD
END:VTIMEZONE
BEGIN:VEVENT
DTSTART;TZID=America/Sao_Paulo:20260424T150000
DTEND;TZID=America/Sao_Paulo:20260425T223000
DTSTAMP:20260424T073216
CREATED:20260422T122810Z
LAST-MODIFIED:20260422T122811Z
UID:30895-1777042800-1777156200@portalmesadebar.com.br
SUMMARY:AMSTEL PROMOVE KING’S DAY ÀS MARGENS DO TIETÊ
DESCRIPTION:Amstel promove King’s Day em São Paulo com shows\, passeios de barco no Tietê\, gastronomia e muita cerveja \n\n\n\nNos dias 25 e 26 de abril\, a Amstel\, cerveja do portfólio da Heineken\, realiza a terceira edição do King’s Day\, uma homenagem dessa cerveja de origem holandesa à principal celebração nacional dos Países Baixos que acontece lá no dia 27 de abril\, dia do aniversário do rei Guilherme Alexandre. A data transforma cidades como Amsterdam em grandes festivais a céu aberto\, marcados pelo uso predominante da cor laranja\, símbolo da realeza\, além de feiras de rua\, apresentações musicais e intensa circulação de barcos pelos canais da cidade. \n\n\n\n\n\nAqui\, a Amstel realiza uma festa inspirada em tudo isso\, transformando um trecho das margens do Rio Tietê em São Paulo\, logo abaixo do viaduto do Jaguaré\, na ciclovia com acesso via Parque Cândido Portinari\, em uma mini Amsterdã\, com decoração cenográfica\, palco para shows\, estações com gastronomia variada e um inusitado passeio de balsa pelo rio Tietê. Ao todo\, serão sete embarcações que permitem acompanhar os shows e a movimentação do espaço. Tudo regado a muita cerveja\, claro. \n\n\n\n\n\n\n\n\n\n\n\n\n\nA programação musical inclui dois palcos\, um em terra firme e outro sobre o rio\, em uma plataforma flutuante inédita onde vão rolar shows de Marcelo D2\, Rachel Reis\, Diego Martins\, entre outras atrações. O público também terá acesso a comidas típicas\, como Bitterball (bolinho de carne cremoso)\, Frikandel (salsicha frita de carne bovina e suína temperada)\, Stroopwafels (deliciosas bolachas holandesas recheadas com caramelo)\, com preços a partir de R$ 28. \n\n\n\nCom público estimado em mais de 3 mil pessoas por dia\, o evento tem entrada gratuita mediante solicitação antecipada de ingressos pela plataforma Sympla a partir das 12h. \n\n\n\n“O King’s Day já se consolidou como um dos principais eventos de marca do Brasil. Levar a essência da Amstel e o espírito de Amsterdam para São Paulo pelo terceiro ano consecutivo reforça nosso compromisso de ativar espaços públicos com uma programação diversa\, que reúne música\, arte\, gastronomia e shows inéditos. Agora\, levamos esse modelo para Pernambuco\, e a meta é continuar expandindo para outros estados”Guilherme Bailão\, diretor de patrocínios do Grupo HEINEKEN no Brasil \n\n\n\nA ATENAS.ag é a agência responsável pelo planejamento\, criação e execução das três edições do evento. \n\n\n\n“Desde a primeira edição do King’s Day\, a ATENAS.ag lidera essa construção junto com a marca\, criando uma plataforma proprietária que conecta Amsterdam a São Paulo por meio de elementos como o samba\, a liberdade\, o orgulho de ser quem se é\, além da internacionalidade e o espírito livre. Nesta terceira edição\, evoluímos em escala e relevância sendo\, mais do que um evento\, uma plataforma de brand experience que cresce ano a ano\, fortalecendo a conexão com o público e gerando impacto positivo para o negócio. Para nós é um motivo de orgulho construir essa trajetória ao lado da Amstel com uma entrega potente e relevante\, fruto de um trabalho coletivo que se fortalece a cada edição”Denise Garrido\, CEO e fundadora da ATENAS \n\n\n\nConfira a programação musical: \n\n\n\nSábado\, 25 de abril \n\n\n\n15h – Well15h30 – Tucuju16h30 – Samba de Rainha18h – Tucuju18h30 – Acadêmicos do Baixo Augusta com Simoninha20h – Lia Macedo21h – Marcelo D222h20 – Well \n\n\n\nDomingo\, 26 de abril \n\n\n\n15h – Well16h30 – Samba do Adilson18h – Risca Fada19h: Diego Martins20h – Risca Fada21h – Rachel Reis22h20 – Well \n\n\n\nMais informações nos sites: www.amstelbrasil.com – www.heinekenbrasil.com.br e nos Instagram: @amstelbr – @grupoheinekenbr. \n\n\n\nKING’S DAY SÃO PAULOLocal: Ciclovia do Rio Pinheiros – Acesso via Parque Cândido PortinariDatas: 25 e 26 de abrilHorários: das 15h às 22h30Ingressos: gratuitos via Sympla (link) a partir de 12h de sexta-feira. Apenas 2 ingressos por CPF e só para maiores de 18 anosO evento está sujeito a lotação e disponibilidade de ingressos.
URL:https://portalmesadebar.com.br/agenda/amstel-promove-kings-day-as-margens-do-tiete/
LOCATION:Parque Cândido Portinari\, Av. Queiroz Filho\, 1365 - Vila Hamburguesa\, São Paulo\, São Paulo\, 03178-200\, Brazil
ATTACH;FMTTYPE=image/jpeg:https://portalmesadebar.com.br/wp-content/uploads/2026/04/amstel-kings-day-2026-mesa-de-bar.jpg
END:VEVENT
END:VCALENDAR