BEGIN:VCALENDAR
VERSION:2.0
PRODID:-//Mesa de bar - ECPv6.15.19//NONSGML v1.0//EN
CALSCALE:GREGORIAN
METHOD:PUBLISH
X-ORIGINAL-URL:https://portalmesadebar.com.br
X-WR-CALDESC:Eventos para Mesa de bar
REFRESH-INTERVAL;VALUE=DURATION:PT1H
X-Robots-Tag:noindex
X-PUBLISHED-TTL:PT1H
BEGIN:VTIMEZONE
TZID:America/Sao_Paulo
BEGIN:STANDARD
TZOFFSETFROM:-0300
TZOFFSETTO:-0300
TZNAME:-03
DTSTART:20220101T000000
END:STANDARD
END:VTIMEZONE
BEGIN:VEVENT
DTSTART;TZID=America/Sao_Paulo:20230701T110000
DTEND;TZID=America/Sao_Paulo:20230702T203000
DTSTAMP:20260425T162136
CREATED:20230621T205913Z
LAST-MODIFIED:20230621T205915Z
UID:16354-1688209200-1688329800@portalmesadebar.com.br
SUMMARY:SCHORNSTEIN FESTIVAL AGITA POMERODE NO INÍCIO DE JULHO
DESCRIPTION:O Schornstein Festival agita Pomerode (SC) nos dias 01 e 02 de julho com shows de diversos estilos musicais e muita cerveja\n\n\n\nPara comemorar seus 17 anos\, a Schornstein\, marca da Companhia Brasileira de Cerveja Artesanal (CBCA)\, realizará seu tradicional festival nos dias 01 e 02 de julho\, no pátio da cervejaria\, em Pomerode (SC). Serão várias atrações musicais e gastronômicas\, além de diversos estilos de chope artesanal. O evento tem entrada gratuita e já faz parte do calendário de eventos da cidade. \n\n\n\n“O festival já se tornou um marco na cidade e é bastante esperado pelos fãs da boa música acompanhado por uma boa cerveja artesanal. Serão dois dias de muito entretenimento com música de diversos estilos\, gastronomia\, cerveja e muita animação no charmoso Centro Histórico da cidade\, onde fica a nossa fábrica e brewpub”Luciane Rosa\, coordenadora de Marketing da Schornstein\n\n\n\n\n\n\n\nMuita música\n\n\n\nO line-up conta com bandas de rock a country\, passando por folk e celta\, serão mais de 22 horas de música. No sábado (01/07)\, é a vez de bandas Leo Maier Trio (Blues)\, Blumenfolk (Rock/Countru/Folk)\, Sonido Club (Rock)\, Cometz (Rock/Hard) e Jimmy London (Matanza) e Farol Negro (Country/Rock)\, além da Black Tainha (Rock\, Grunge/Stoner)\, vencedora do concurso de bandas promovido pelo festival (foto). \n\n\n\nNo domingo (02/07)\, quem comandará a festa serão as bandas Rebels and Sinners (Folk\, Indie/Celta)\, Bastardos (Country/Rock) e Club Soda (Rock)\, além de DJs fazendo a tradicional discotecagem com disco de vinil. \n\n\n\nUma das novidades deste ano foi o concurso de bandas\, que selecionou um grupo musical catarinense para tocar no evento. As inscrições foram feitas até maio e superaram as expectativas. \n\n\n\n“Ficamos muito felizes com a mobilização e interesse dos grupos musicais locais que\, logo nos primeiros dias de inscrição\, superaram nossas expectativas. Tivemos mais de 40 bandas inscritas que deram bastante trabalho para a comissão técnica julgadora devido à qualidade do que foi apresentado. Tivemos fases eliminatórias no palco da cervejaria durante o mês de maio\, com a grande final agora\, no início de junho”Luciane Rosa\, coordenadora de Marketing da Schornstein\n\n\n\n\n\n\n\nTradição cervejeira\n\n\n\nA Cervejaria Schornstein foi uma das primeiras fábricas de cerveja artesanal brasileira\, fundada em junho de 2006\, em Pomerode (SC)\, cidade que tem fortes traços da cultura alemã. Sua sede fica em uma edificação histórica\, o antigo Mercado Weege. Ao lado da fábrica\, o prédio que deu início à cervejaria abriga\, atualmente\, o brewpub Schornstein Kneipe\, que se destaca por uma imponente chaminé de 30 metros de altura feita de tijolos maciços artesanais. Vem daí o nome Schornstein que\, em alemão\, significa chaminé. \n\n\n\nA Schornstein resgata o talento natural para produzir cerveja trazido pelos primeiros imigrantes alemães que se estabeleceram no Vale Europeu\, em Santa Catarina. Com várias medalhas de excelência conquistadas em concursos cervejeiros nacionais e internacionais\, a marca produz diversos estilos de cerveja como IPA\, Bock\, Weiss\, Pilsen\, Stout\, Pilsen\, APA e Witbier. \n\n\n\nSCHORNSTEIN FESTIVALData: 01 e 02 de julhoLocal: Pátio da Cervejaria Schornstein – Rua Hermann Weege\, 160\, Centro\, Pomerode (SC).Horário: Sábado (dia 01): das 11h à 0h30. Domingo (dia 02): das 11h às 20h30Preço: Entrada gratuitaSite: www.schornstein.com.br/festival/
URL:https://portalmesadebar.com.br/agenda/schornstein-festival-agita-pomerode-no-inicio-de-julho/
LOCATION:Pátio da Cervejaria Schorntein\, Rua Hermann Weege\, 160\, Centro\, Pomerode\, Santa Catarina\, 89107-000\, Brasil
CATEGORIES:Eventos
ATTACH;FMTTYPE=image/jpeg:https://portalmesadebar.com.br/wp-content/uploads/2023/06/schornstein-festival-2023-mesa-de-bar4.jpg
END:VEVENT
BEGIN:VEVENT
DTSTART;TZID=America/Sao_Paulo:20230706T140000
DTEND;TZID=America/Sao_Paulo:20230709T220000
DTSTAMP:20260425T162136
CREATED:20230621T225916Z
LAST-MODIFIED:20230621T225918Z
UID:16367-1688652000-1688940000@portalmesadebar.com.br
SUMMARY:BELO HORIZONTE SEDIA NOVA EDIÇÃO DA EXPOCACHAÇA
DESCRIPTION:De 6 a 9 de julho\, a Serraria Souza Pinto em Belo Horizonte recebe mais uma edição da Expocachaça\n\n\n\nDe 6 a 9 de julho de 2023\, quinta a domingo\, Belo Horizonte se transforma mais uma vez na capital nacional da cachaça: é a 32ª Expocachaça e a 16ª BrasilBier\, que serão realizadas na Serraria Souza Pinto\, no Centro da cidade. \n\n\n\nO evento\, pioneiro – a maior e mais importante vitrine mundial da cadeia produtiva e de valor da cachaça -\, já parte integrante do calendário da capital mineira\, apresenta 160 expositores de 16 estados participantes como Rio Grande do Sul\, Goiás\, Santa Catarina\, entre outros; atrações musicais\, gastronomia e lançamento de livros. \n\n\n\n“O que nos orgulha é constatar que é um evento que nasceu em Minas Gerais em 1998\, há 25 anos\, ganhou liderança no Brasil com a participação de vários estados produtores e visibilidade mundial”José Lúcio Mendes\, presidente da Expocachaça e da BrasilBier\n\n\n\nA feira vai apresentar estandes coletivos e individuais como\, por exemplo\, estandes da APRODECANA (Associação dos Produtores de Cana-de-Açúcar e Seus Derivados do Estado do Rio Grande do Sul) com 14 produtores; da AGOPCAL (Associação Goiana de Produtores de Cachaça de Alambique)\, com 12 produtores; da ACAPACQ (Associação Catarinense dos Produtores Artesanais de Aguardente e Cachaça de Qualidade)\, de Santa Catarina\, com 10 produtores; um do Sebrae Minas com 20 expositores; da SEAPA Secretaria de Agricultura\, Pecuária e Abastecimento com produtores e suas empresa vinculadas: IMA\, EMATER e EPAMIG; o Projeto Minas + Doce com 10 produtores; da Taneleria Nacional do Chile; empresas de garrafas Acqua Mineira\, Garrafaria Serra Negra e Labrenta; da Tanoaria Agulhas Negras; um estande da FAEMG – Federação de Agricultura de Minas Gerais e SENAR com a presença de produtores\, espaço para oficinas e o Programa ATeG. \n\n\n\nA Feira será realizada em conjunto com a 16ª BrasilBier e o Minas + Doce\, unindo as cadeias produtivas de bebidas: a cachaça de alambique e as cervejas artesanais\, assim como a doçaria mineira. \n\n\n\n\n\n\n\nMúsica\n\n\n\nAlém de conhecer os melhores produtos feitos no país e as novidades do setor de bebidas e gastronomia\, os visitantes da feira também poderão se divertir ao som do melhor da música com um repertório variado de rock\, música country\, sertanejo e MPB. Confira a programação: \n\n\n\nNa abertura da Expocachaça\, dia 6 de julho\, quinta\, se apresentam as bandas West Land Country (19h) e Lurex Queen Tribute (21h30). No segundo dia\, 7 de julho\, sexta\, tem Creedence Cover (19h) e Putz Grilla (21h30). \n\n\n\nJá no sábado\, 8 de julho\, se apresentam as bandas A Outra Margem (19h) e Luiz Ricardo & Gabriel (21h30). Para encerrar a festa\, no domingo\, 9 de julho\, às 17h tem a dupla Guilherme Sena & Gustavo e às 19h30 a banda Coisas da Rita. \n\n\n\n32ª EXPOCACHAÇA E 16ª BRASILBIER 2023Data: 6 a 9 de julhoLocal: Serraria Souza Pinto – Av. Assis Chateaubriand\, 809 – Centro\, Belo Horizonte (MG)Horário: quinta e sexta\, das 14h à 00h; sábado das 12h à 00h e domingo das 12h às 22hIngressos: R$ 50 (inteira) e R$ 25 (meia) pelo site da Expocachaça ou na bilheteria da Serraria Souza Pinto nos dias do evento.Site: https://www.expocachaca.com.br/
URL:https://portalmesadebar.com.br/agenda/belo-horizonte-sedia-nova-edicao-da-expocachaca/
LOCATION:Serraria Souza Pinto\, Av. Assis Chateaubriand\, 809 - Centro\, Belo Horizonte\, Minas Gerais\, 30150-101\, Brasil
CATEGORIES:Eventos
ATTACH;FMTTYPE=image/jpeg:https://portalmesadebar.com.br/wp-content/uploads/2023/06/expocachaca-2023-mesa-de-bar1.jpg
END:VEVENT
BEGIN:VEVENT
DTSTART;TZID=America/Sao_Paulo:20230709T140000
DTEND;TZID=America/Sao_Paulo:20230709T233000
DTSTAMP:20260425T162136
CREATED:20230704T133303Z
LAST-MODIFIED:20230704T133308Z
UID:16585-1688911200-1688945400@portalmesadebar.com.br
SUMMARY:CERVEJARIA BRASS BREW PROMOVE ARRAIÁ JULINO
DESCRIPTION:Cervejaria Brass Brew\, na Casa das Caldeiras\, promove arraial julino com apresentações musicais\, dança\, artesanato\, comidas típicas e muita cerveja\n\n\n\nLocalizada na Casa das Caldeiras\, uma antiga fábrica desativada que é patrimônio histórico de São Paulo\, a cervejaria Brass Brew promove no dia 09 de julho o Arraiá Julino Brass. A festa conta com a presença de bloco de carnaval\, trio de forró e DJ. Passarão pela casa Bloco do Adorno\, a cantora Thaís Nogueira com repertório de música regional Nordestina e o DJ Gugu Reis tocando brasilidades com muito suingue. \n\n\n\nPara além da música e cervejas o arraiá também terá aula de dança com o professor Pheliphe Britto\, feira de artesanatos\, flash tattoo\, comidas e bebidas típicas desta época do ano\, brincadeiras visando um evento para toda a família e os idealizadores incentivam a ida ao evento em trajes típicos. \n\n\n\nOs ingressos estão à venda no Sympla e seu número é limitado. \n\n\n\nONDE E QUANDO:– 09 de julho\, domingo– Das 14h até meia-noite– Casa das Caldeiras. Avenida Francisco Matarazzo\, 1650. São Paulo
URL:https://portalmesadebar.com.br/agenda/cervejaria-brass-brew-promove-arraia-julino/
LOCATION:Casa das Caldeiras\, Av. Francisco Matarazzo\, 2000 - Água Branca\, São Paulo\, São Paulo\, 05001-100\, Brasil
CATEGORIES:Eventos
ATTACH;FMTTYPE=image/jpeg:https://portalmesadebar.com.br/wp-content/uploads/2023/07/brass-brew-arraial-mesa-de-bar.jpg
END:VEVENT
END:VCALENDAR