BEGIN:VCALENDAR
VERSION:2.0
PRODID:-//Mesa de bar - ECPv6.15.19//NONSGML v1.0//EN
CALSCALE:GREGORIAN
METHOD:PUBLISH
X-ORIGINAL-URL:https://portalmesadebar.com.br
X-WR-CALDESC:Eventos para Mesa de bar
REFRESH-INTERVAL;VALUE=DURATION:PT1H
X-Robots-Tag:noindex
X-PUBLISHED-TTL:PT1H
BEGIN:VTIMEZONE
TZID:America/Sao_Paulo
BEGIN:STANDARD
TZOFFSETFROM:-0300
TZOFFSETTO:-0300
TZNAME:-03
DTSTART:20230101T000000
END:STANDARD
END:VTIMEZONE
BEGIN:VEVENT
DTSTART;TZID=America/Sao_Paulo:20240413T120000
DTEND;TZID=America/Sao_Paulo:20240414T200000
DTSTAMP:20260425T005037
CREATED:20240405T182324Z
LAST-MODIFIED:20240405T182327Z
UID:20307-1713009600-1713124800@portalmesadebar.com.br
SUMMARY:5º FESTIVAL DAS CERVEJARIAS PAULISTANAS
DESCRIPTION:O Festival das Cervejarias Paulistanas (FCP) retorna para sua 5ª edição na Cervejaria Tarantino no bairro do Limão\, nos dias 13 e 14 de Abril com entrada gratuita. Serão dois dias de celebração da cultura\, diversidade e qualidade cervejeira paulistana com a participação de 25 cervejarias com uma ampla variedade de estilos. Além de muita cerveja\, o evento oferece música\, gastronomia\, cultura e uma confraternização entre amigos e admiradores da cerveja em um ambiente acolhedor\, diverso e festivo. \n\n\n\nEste ano as atrações musicais ficam por conta das bandas Rock Vintage e Vasco Faé. Vários food trucks garantem ótimas e variadas opções gastronômicas. Vão rolar sorteios de kits e produtos para o público e expositores\, água gratuita\, Flash Tattoo durante todo o evento à cargo da Venice Ink Tattoo e uma área coberta em caso de chuva. O ambiente é pet-friendly e crianças são bem-vindas\, tanto que são esperadas de 2.000 a 3.000 pessoas por dia. \n\n\n\n\n\n\n\n\n\n\n\n\n\nConfira a lista das cervejarias participantes:\n\n\n\n* Cervejaria 77 * Alvorada * Bareô * BrassBrew * Brework * Central * Croma * Cybeer * Destiny Brewing * Dr. Ewam * Gutembeer * La Caminera * Lab * Los Forajidos * Lote * Maralto * Minnesota * Ó Tap * Peregrinos * Pestana * Rivas Brewing * Satirus * SmokedBrew * Stützen * Tarantino * Trilha \n\n\n\n\n\n\n\n\n\n\n\n\n\n\n\n\n\n\n\n\n\nMais informações no site: https://cervejariatarantino.com.br/ ou no Instagram: @tarantinocervejaria
URL:https://portalmesadebar.com.br/agenda/5o-festival-das-cervejarias-paulistanas/
LOCATION:Cervejaria Tarantino\, Rua Miguel Nelson Bechara\, 316 - Limão\, São Paulo\, São Paulo\, 02712-130\, Brasil
CATEGORIES:Eventos
ATTACH;FMTTYPE=image/jpeg:https://portalmesadebar.com.br/wp-content/uploads/2024/04/festival-de-cervejas-paulistanas-2024-mesa-de-bar1.jpg
END:VEVENT
END:VCALENDAR