BEGIN:VCALENDAR
VERSION:2.0
PRODID:-//Mesa de bar - ECPv6.15.19//NONSGML v1.0//EN
CALSCALE:GREGORIAN
METHOD:PUBLISH
X-ORIGINAL-URL:https://portalmesadebar.com.br
X-WR-CALDESC:Eventos para Mesa de bar
REFRESH-INTERVAL;VALUE=DURATION:PT1H
X-Robots-Tag:noindex
X-PUBLISHED-TTL:PT1H
BEGIN:VTIMEZONE
TZID:America/Sao_Paulo
BEGIN:STANDARD
TZOFFSETFROM:-0300
TZOFFSETTO:-0300
TZNAME:-03
DTSTART:20220101T000000
END:STANDARD
END:VTIMEZONE
BEGIN:VEVENT
DTSTART;TZID=America/Sao_Paulo:20230706T140000
DTEND;TZID=America/Sao_Paulo:20230709T220000
DTSTAMP:20260425T175227
CREATED:20230621T225916Z
LAST-MODIFIED:20230621T225918Z
UID:16367-1688652000-1688940000@portalmesadebar.com.br
SUMMARY:BELO HORIZONTE SEDIA NOVA EDIÇÃO DA EXPOCACHAÇA
DESCRIPTION:De 6 a 9 de julho\, a Serraria Souza Pinto em Belo Horizonte recebe mais uma edição da Expocachaça\n\n\n\nDe 6 a 9 de julho de 2023\, quinta a domingo\, Belo Horizonte se transforma mais uma vez na capital nacional da cachaça: é a 32ª Expocachaça e a 16ª BrasilBier\, que serão realizadas na Serraria Souza Pinto\, no Centro da cidade. \n\n\n\nO evento\, pioneiro – a maior e mais importante vitrine mundial da cadeia produtiva e de valor da cachaça -\, já parte integrante do calendário da capital mineira\, apresenta 160 expositores de 16 estados participantes como Rio Grande do Sul\, Goiás\, Santa Catarina\, entre outros; atrações musicais\, gastronomia e lançamento de livros. \n\n\n\n“O que nos orgulha é constatar que é um evento que nasceu em Minas Gerais em 1998\, há 25 anos\, ganhou liderança no Brasil com a participação de vários estados produtores e visibilidade mundial”José Lúcio Mendes\, presidente da Expocachaça e da BrasilBier\n\n\n\nA feira vai apresentar estandes coletivos e individuais como\, por exemplo\, estandes da APRODECANA (Associação dos Produtores de Cana-de-Açúcar e Seus Derivados do Estado do Rio Grande do Sul) com 14 produtores; da AGOPCAL (Associação Goiana de Produtores de Cachaça de Alambique)\, com 12 produtores; da ACAPACQ (Associação Catarinense dos Produtores Artesanais de Aguardente e Cachaça de Qualidade)\, de Santa Catarina\, com 10 produtores; um do Sebrae Minas com 20 expositores; da SEAPA Secretaria de Agricultura\, Pecuária e Abastecimento com produtores e suas empresa vinculadas: IMA\, EMATER e EPAMIG; o Projeto Minas + Doce com 10 produtores; da Taneleria Nacional do Chile; empresas de garrafas Acqua Mineira\, Garrafaria Serra Negra e Labrenta; da Tanoaria Agulhas Negras; um estande da FAEMG – Federação de Agricultura de Minas Gerais e SENAR com a presença de produtores\, espaço para oficinas e o Programa ATeG. \n\n\n\nA Feira será realizada em conjunto com a 16ª BrasilBier e o Minas + Doce\, unindo as cadeias produtivas de bebidas: a cachaça de alambique e as cervejas artesanais\, assim como a doçaria mineira. \n\n\n\n\n\n\n\nMúsica\n\n\n\nAlém de conhecer os melhores produtos feitos no país e as novidades do setor de bebidas e gastronomia\, os visitantes da feira também poderão se divertir ao som do melhor da música com um repertório variado de rock\, música country\, sertanejo e MPB. Confira a programação: \n\n\n\nNa abertura da Expocachaça\, dia 6 de julho\, quinta\, se apresentam as bandas West Land Country (19h) e Lurex Queen Tribute (21h30). No segundo dia\, 7 de julho\, sexta\, tem Creedence Cover (19h) e Putz Grilla (21h30). \n\n\n\nJá no sábado\, 8 de julho\, se apresentam as bandas A Outra Margem (19h) e Luiz Ricardo & Gabriel (21h30). Para encerrar a festa\, no domingo\, 9 de julho\, às 17h tem a dupla Guilherme Sena & Gustavo e às 19h30 a banda Coisas da Rita. \n\n\n\n32ª EXPOCACHAÇA E 16ª BRASILBIER 2023Data: 6 a 9 de julhoLocal: Serraria Souza Pinto – Av. Assis Chateaubriand\, 809 – Centro\, Belo Horizonte (MG)Horário: quinta e sexta\, das 14h à 00h; sábado das 12h à 00h e domingo das 12h às 22hIngressos: R$ 50 (inteira) e R$ 25 (meia) pelo site da Expocachaça ou na bilheteria da Serraria Souza Pinto nos dias do evento.Site: https://www.expocachaca.com.br/
URL:https://portalmesadebar.com.br/agenda/belo-horizonte-sedia-nova-edicao-da-expocachaca/
LOCATION:Serraria Souza Pinto\, Av. Assis Chateaubriand\, 809 - Centro\, Belo Horizonte\, Minas Gerais\, 30150-101\, Brasil
CATEGORIES:Eventos
ATTACH;FMTTYPE=image/jpeg:https://portalmesadebar.com.br/wp-content/uploads/2023/06/expocachaca-2023-mesa-de-bar1.jpg
END:VEVENT
END:VCALENDAR